BEGIN:VCALENDAR
VERSION:2.0
PRODID:-//MesseCountdown//DE
BEGIN:VEVENT
SUMMARY:LFG-Con
DTSTART;VALUE=DATE:20260524
DTEND;VALUE=DATE:20260525
LOCATION:Hof
DESCRIPTION:https://lfg-con.de/
END:VEVENT
END:VCALENDAR
